BEGIN:VCALENDAR
VERSION:2.0
PRODID:-//Plone.org//NONSGML plone.app.event//EN
X-WR-TIMEZONE:Europe/Rome
BEGIN:VEVENT
SUMMARY:3D Printing Structures and Living Cells - Lecture Prof. G. Wallace
DTSTART;TZID=Europe/Rome;VALUE=DATE-TIME:20160609T120000
DTEND;TZID=Europe/Rome;VALUE=DATE-TIME:20160609T140000
DTSTAMP;VALUE=DATE-TIME:20260420T191834Z
UID:7de3884b756045e4849b25191f5809d2@dibinem.unibo.it
CREATED;VALUE=DATE-TIME:20160608T082510Z
LAST-MODIFIED;VALUE=DATE-TIME:20160608T090030Z
URL:https://dibinem.unibo.it/it/eventi/3d-printing-structures-and-living-c
 ells-lecure-prof.-g.-wallace
END:VEVENT
BEGIN:VTIMEZONE
TZID:Europe/Rome
X-LIC-LOCATION:Europe/Rome
BEGIN:DAYLIGHT
DTSTART;VALUE=DATE-TIME:20160327T030000
TZNAME:CEST
TZOFFSETFROM:+0100
TZOFFSETTO:+0200
END:DAYLIGHT
END:VTIMEZONE
END:VCALENDAR
