BEGIN:VCALENDAR
VERSION:2.0
PRODID:-//Plone.org//NONSGML plone.app.event//EN
X-WR-TIMEZONE:Europe/Rome
BEGIN:VEVENT
SUMMARY:Bologna Parkinson 2016
DTSTART;TZID=Europe/Rome;VALUE=DATE-TIME:20160303T130000
DTEND;TZID=Europe/Rome;VALUE=DATE-TIME:20160304T185500
DTSTAMP;VALUE=DATE-TIME:20260420T205505Z
UID:595e8e8c70d04b228dbf96931c30f334@dibinem.unibo.it
CREATED;VALUE=DATE-TIME:20160219T072554Z
DESCRIPTION:Bologna Parkinson 2016 Giovedì 3 e Venerdì 4 Marzo 2016
LAST-MODIFIED;VALUE=DATE-TIME:20160219T073335Z
URL:https://dibinem.unibo.it/it/eventi/bologna-parkinson-2016
END:VEVENT
BEGIN:VTIMEZONE
TZID:Europe/Rome
X-LIC-LOCATION:Europe/Rome
BEGIN:STANDARD
DTSTART;VALUE=DATE-TIME:20151025T020000
TZNAME:CET
TZOFFSETFROM:+0200
TZOFFSETTO:+0100
END:STANDARD
END:VTIMEZONE
END:VCALENDAR
