BEGIN:VCALENDAR
VERSION:2.0
PRODID:-//Plone.org//NONSGML plone.app.event//EN
X-WR-TIMEZONE:Europe/Rome
BEGIN:VEVENT
SUMMARY:Breast Pathology Masterclass 2016
DTSTART;TZID=Europe/Rome;VALUE=DATE-TIME:20160421T083000
DTEND;TZID=Europe/Rome;VALUE=DATE-TIME:20160422T180000
DTSTAMP;VALUE=DATE-TIME:20260420T191504Z
UID:f7708af75e064df5989d1473870a946a@dibinem.unibo.it
CREATED;VALUE=DATE-TIME:20151110T112008Z
DESCRIPTION:Organizzato da: The University of Nottingham e Alma Mater Stud
 iorum Università - di Bologna DIBINEM
LAST-MODIFIED;VALUE=DATE-TIME:20160215T112624Z
URL:https://dibinem.unibo.it/it/eventi/breast-pathology-masterclass-2016
END:VEVENT
BEGIN:VTIMEZONE
TZID:Europe/Rome
X-LIC-LOCATION:Europe/Rome
BEGIN:DAYLIGHT
DTSTART;VALUE=DATE-TIME:20160327T030000
TZNAME:CEST
TZOFFSETFROM:+0100
TZOFFSETTO:+0200
END:DAYLIGHT
END:VTIMEZONE
END:VCALENDAR
