BEGIN:VCALENDAR
VERSION:2.0
PRODID:-//Plone.org//NONSGML plone.app.event//EN
X-WR-TIMEZONE:Europe/Rome
BEGIN:VEVENT
SUMMARY:Contraffare la salute
DTSTART;TZID=Europe/Rome;VALUE=DATE-TIME:20160919T093000
DTEND;TZID=Europe/Rome;VALUE=DATE-TIME:20160919T183000
DTSTAMP;VALUE=DATE-TIME:20260420T191622Z
UID:de501f2b26014c3fabafd3ce9d27e6c7@dibinem.unibo.it
CREATED;VALUE=DATE-TIME:20160804T082510Z
DESCRIPTION:Giornate informative e formative su temi di attualita' e ricer
 ca.
LAST-MODIFIED;VALUE=DATE-TIME:20160804T082707Z
URL:https://dibinem.unibo.it/it/eventi/contraffare-la-salute
END:VEVENT
BEGIN:VTIMEZONE
TZID:Europe/Rome
X-LIC-LOCATION:Europe/Rome
BEGIN:DAYLIGHT
DTSTART;VALUE=DATE-TIME:20160327T030000
TZNAME:CEST
TZOFFSETFROM:+0100
TZOFFSETTO:+0200
END:DAYLIGHT
END:VTIMEZONE
END:VCALENDAR
