BEGIN:VCALENDAR
VERSION:2.0
PRODID:-//Plone.org//NONSGML plone.app.event//EN
X-WR-TIMEZONE:Europe/Rome
BEGIN:VEVENT
SUMMARY:Corsi Residenziali per Responsabili di Progetto di Ricerca con uti
 lizzo di animali ai sensi del D.L.vo 26/2014 
DTSTART;TZID=Europe/Rome;VALUE=DATE-TIME:20161212T083000
DTEND;TZID=Europe/Rome;VALUE=DATE-TIME:20161213T173000
DTSTAMP;VALUE=DATE-TIME:20260420T205818Z
UID:f6d5ea8500b74cc08cab08d1b1beeb97@dibinem.unibo.it
CREATED;VALUE=DATE-TIME:20161118T141119Z
DESCRIPTION:Il corso si propone di fornire ai Responsabili dei progetti di
  ricerca gli strumenti utili alla corretta stesura del progetto\, elemento
  fondamentale per ottenere l’autorizzazione alla sperimentazione animale
  da parte del Ministero della Salute\, previa Valutazione Tecnico Scientif
 ica dell’ISS. Il corso si pone inoltre la finalità di caratterizzare la
  competenza del Responsabile del Progetto di ricerca ai sensi dell’art. 
 23\, comma 3 del D.lgs. 26/2014.
LAST-MODIFIED;VALUE=DATE-TIME:20161118T141453Z
URL:https://dibinem.unibo.it/it/eventi/corsi-residenziali-per-responsabili
 -di-progetto-di-ricerca-con-utilizzo-di-animali-ai-sensi-del-d.l.vo-26-201
 4
END:VEVENT
BEGIN:VTIMEZONE
TZID:Europe/Rome
X-LIC-LOCATION:Europe/Rome
BEGIN:STANDARD
DTSTART;VALUE=DATE-TIME:20161030T020000
TZNAME:CET
TZOFFSETFROM:+0200
TZOFFSETTO:+0100
END:STANDARD
END:VTIMEZONE
END:VCALENDAR
