BEGIN:VCALENDAR
VERSION:2.0
PRODID:-//Plone.org//NONSGML plone.app.event//EN
X-WR-TIMEZONE:Europe/Rome
BEGIN:VEVENT
SUMMARY:Corso di alta formazione "La scelta clinica ottimale nella chirurg
 ia implantare e parodontale"
DTSTART;TZID=Europe/Rome;VALUE=DATE-TIME:20161014T000000
DTEND;TZID=Europe/Rome;VALUE=DATE-TIME:20170224T000000
DTSTAMP;VALUE=DATE-TIME:20260420T205818Z
UID:a1437190d1a64274baa1c0411e0cd7e6@dibinem.unibo.it
CREATED;VALUE=DATE-TIME:20160311T120512Z
LAST-MODIFIED;VALUE=DATE-TIME:20160311T120549Z
URL:https://dibinem.unibo.it/it/eventi/corso-di-alta-formazione-la-scelta-
 clinica-ottimale-nella-chirurgia-implantare-e-parodontale
END:VEVENT
BEGIN:VTIMEZONE
TZID:Europe/Rome
X-LIC-LOCATION:Europe/Rome
BEGIN:DAYLIGHT
DTSTART;VALUE=DATE-TIME:20160327T030000
TZNAME:CEST
TZOFFSETFROM:+0100
TZOFFSETTO:+0200
END:DAYLIGHT
BEGIN:STANDARD
DTSTART;VALUE=DATE-TIME:20161030T020000
TZNAME:CET
TZOFFSETFROM:+0200
TZOFFSETTO:+0100
END:STANDARD
END:VTIMEZONE
END:VCALENDAR
