BEGIN:VCALENDAR
VERSION:2.0
PRODID:-//Plone.org//NONSGML plone.app.event//EN
X-WR-TIMEZONE:Europe/Rome
BEGIN:VEVENT
SUMMARY:DIBINEM Connect - 4 Dicembre 2025
DTSTART;TZID=Europe/Rome;VALUE=DATE-TIME:20251204T153000
DTEND;TZID=Europe/Rome;VALUE=DATE-TIME:20251204T193000
DTSTAMP;VALUE=DATE-TIME:20260419T164800Z
UID:6f08b4f7a21947a2a6c1c43b5a6b3505@dibinem.unibo.it
CREATED;VALUE=DATE-TIME:20251020T134729Z
DESCRIPTION:specializzandi e dottorandi in dialogo sulla ricerca
LAST-MODIFIED;VALUE=DATE-TIME:20251020T135653Z
URL:https://dibinem.unibo.it/it/eventi/dibinem-connect-4-dicembre-2025
END:VEVENT
BEGIN:VTIMEZONE
TZID:Europe/Rome
X-LIC-LOCATION:Europe/Rome
BEGIN:STANDARD
DTSTART;VALUE=DATE-TIME:20251026T020000
TZNAME:CET
TZOFFSETFROM:+0200
TZOFFSETTO:+0100
END:STANDARD
END:VTIMEZONE
END:VCALENDAR
