BEGIN:VCALENDAR
VERSION:2.0
PRODID:-//Plone.org//NONSGML plone.app.event//EN
X-WR-TIMEZONE:Europe/Rome
BEGIN:VEVENT
SUMMARY:Eors roadmap conference
DTSTART;VALUE=DATE:20160917
DTEND;VALUE=DATE:20160918
DTSTAMP;VALUE=DATE-TIME:20260420T191537Z
UID:6504bae3bd8b414fa6ae813814c3107e@dibinem.unibo.it
CREATED;VALUE=DATE-TIME:20160914T073431Z
DESCRIPTION:Societal Challenges and  Novel Solutions in Orthopaedic Resear
 ch
LAST-MODIFIED;VALUE=DATE-TIME:20160914T073534Z
URL:https://dibinem.unibo.it/it/eventi/eors-roadmap-conference
END:VEVENT
END:VCALENDAR
