BEGIN:VCALENDAR
VERSION:2.0
PRODID:-//Plone.org//NONSGML plone.app.event//EN
X-WR-TIMEZONE:Europe/Rome
BEGIN:VEVENT
SUMMARY:Festival della Scienza Medica 2016
DTSTART;TZID=Europe/Rome;VALUE=DATE-TIME:20160519T080000
DTEND;TZID=Europe/Rome;VALUE=DATE-TIME:20160522T200000
DTSTAMP;VALUE=DATE-TIME:20260420T193110Z
UID:d89aeb326b114cfe91620f529876d61f@dibinem.unibo.it
CREATED;VALUE=DATE-TIME:20160505T064103Z
DESCRIPTION:Seconda Edizione - Le età della vita
LAST-MODIFIED;VALUE=DATE-TIME:20160519T060712Z
URL:https://dibinem.unibo.it/it/eventi/festival-della-scienza-medica-2016
END:VEVENT
BEGIN:VTIMEZONE
TZID:Europe/Rome
X-LIC-LOCATION:Europe/Rome
BEGIN:DAYLIGHT
DTSTART;VALUE=DATE-TIME:20160327T030000
TZNAME:CEST
TZOFFSETFROM:+0100
TZOFFSETTO:+0200
END:DAYLIGHT
END:VTIMEZONE
END:VCALENDAR
