BEGIN:VCALENDAR
VERSION:2.0
PRODID:-//Plone.org//NONSGML plone.app.event//EN
X-WR-TIMEZONE:Europe/Rome
BEGIN:VEVENT
SUMMARY:Finanziare la Ricerca per la Salute 2016
DTSTART;TZID=Europe/Rome;VALUE=DATE-TIME:20160213T090000
DTEND;TZID=Europe/Rome;VALUE=DATE-TIME:20160213T130000
DTSTAMP;VALUE=DATE-TIME:20260420T205633Z
UID:d897e1d1025d450eafc874c3cb1e786e@dibinem.unibo.it
CREATED;VALUE=DATE-TIME:20160210T074414Z
DESCRIPTION:Il contributo della Fondazione del Monte di Bologna e Ravenna
LAST-MODIFIED;VALUE=DATE-TIME:20160210T074446Z
URL:https://dibinem.unibo.it/it/eventi/finanziare-la-ricerca-per-la-salute
 -2016
END:VEVENT
BEGIN:VTIMEZONE
TZID:Europe/Rome
X-LIC-LOCATION:Europe/Rome
BEGIN:STANDARD
DTSTART;VALUE=DATE-TIME:20151025T020000
TZNAME:CET
TZOFFSETFROM:+0200
TZOFFSETTO:+0100
END:STANDARD
END:VTIMEZONE
END:VCALENDAR
