BEGIN:VCALENDAR
VERSION:2.0
PRODID:-//Plone.org//NONSGML plone.app.event//EN
X-WR-TIMEZONE:Europe/Rome
BEGIN:VEVENT
SUMMARY:Health in Horizon 2020 
DTSTART;TZID=Europe/Rome;VALUE=DATE-TIME:20160302T120000
DTEND;TZID=Europe/Rome;VALUE=DATE-TIME:20160302T143000
DTSTAMP;VALUE=DATE-TIME:20260420T205633Z
UID:7671cb33e6cb4aaea2ada0bf68e937ac@dibinem.unibo.it
CREATED;VALUE=DATE-TIME:20160222T084429Z
DESCRIPTION:L'incontro e' rivolto ai soli gruppi di ricerca Unibo ed ha l'
 obiettivo di illustrare il panorama delle iniziative e delle opportunita' 
 di finanziamento a livello europeo per il settore Salute.
LAST-MODIFIED;VALUE=DATE-TIME:20160222T090011Z
URL:https://dibinem.unibo.it/it/eventi/health-in-horizon-2020
END:VEVENT
BEGIN:VTIMEZONE
TZID:Europe/Rome
X-LIC-LOCATION:Europe/Rome
BEGIN:STANDARD
DTSTART;VALUE=DATE-TIME:20151025T020000
TZNAME:CET
TZOFFSETFROM:+0200
TZOFFSETTO:+0100
END:STANDARD
END:VTIMEZONE
END:VCALENDAR
