BEGIN:VCALENDAR
VERSION:2.0
PRODID:-//Plone.org//NONSGML plone.app.event//EN
X-WR-TIMEZONE:Europe/Rome
BEGIN:VEVENT
SUMMARY:Intitolazione dell'Aula Magna\, Clinica Neurologica di via Ugo Fos
 colo\, 7 Bologna
DTSTART;TZID=Europe/Rome;VALUE=DATE-TIME:20161209T100000
DTEND;TZID=Europe/Rome;VALUE=DATE-TIME:20161209T130000
DTSTAMP;VALUE=DATE-TIME:20260420T193345Z
UID:b50c9c5e0aaa483692458b99832dbdac@dibinem.unibo.it
CREATED;VALUE=DATE-TIME:20161110T065720Z
DESCRIPTION:Intitolazione dell'Aula Magna al prof. Pasquale Montagna.\nOre
  10.30 cerimonia inaugurale
LAST-MODIFIED;VALUE=DATE-TIME:20161110T065932Z
URL:https://dibinem.unibo.it/it/eventi/intitolazione-dellaula-magna-clinic
 a-neurologica-di-via-ugo-foscolo-7-bologna
END:VEVENT
BEGIN:VTIMEZONE
TZID:Europe/Rome
X-LIC-LOCATION:Europe/Rome
BEGIN:STANDARD
DTSTART;VALUE=DATE-TIME:20161030T020000
TZNAME:CET
TZOFFSETFROM:+0200
TZOFFSETTO:+0100
END:STANDARD
END:VTIMEZONE
END:VCALENDAR
