BEGIN:VCALENDAR
VERSION:2.0
PRODID:-//Plone.org//NONSGML plone.app.event//EN
X-WR-TIMEZONE:Europe/Rome
BEGIN:VEVENT
SUMMARY:Malattie rare neurologiche - Corso di aggiornamento
DTSTART;TZID=Europe/Rome;VALUE=DATE-TIME:20160226T083000
DTEND;TZID=Europe/Rome;VALUE=DATE-TIME:20160226T180000
DTSTAMP;VALUE=DATE-TIME:20260425T205329Z
UID:59d3bc48905d47caa09d7eeeb52e44b0@dibinem.unibo.it
CREATED;VALUE=DATE-TIME:20160210T115901Z
LAST-MODIFIED;VALUE=DATE-TIME:20160210T115919Z
URL:https://dibinem.unibo.it/it/eventi/malattie-rare-neurologiche-corso-di
 -aggiornamento
END:VEVENT
BEGIN:VTIMEZONE
TZID:Europe/Rome
X-LIC-LOCATION:Europe/Rome
BEGIN:STANDARD
DTSTART;VALUE=DATE-TIME:20151025T020000
TZNAME:CET
TZOFFSETFROM:+0200
TZOFFSETTO:+0100
END:STANDARD
END:VTIMEZONE
END:VCALENDAR
