BEGIN:VCALENDAR
VERSION:2.0
PRODID:-//Plone.org//NONSGML plone.app.event//EN
X-WR-TIMEZONE:Europe/Rome
BEGIN:VEVENT
SUMMARY:Risonanza Magnetica in Medicina 2016
DTSTART;TZID=Europe/Rome;VALUE=DATE-TIME:20160204T080000
DTEND;TZID=Europe/Rome;VALUE=DATE-TIME:20160205T163000
DTSTAMP;VALUE=DATE-TIME:20260420T205633Z
UID:1b18669861374fcaa5b04b15726f993e@dibinem.unibo.it
CREATED;VALUE=DATE-TIME:20160129T073803Z
DESCRIPTION:dalla ricerca tecnologica avanzata alla pratica clinica
LAST-MODIFIED;VALUE=DATE-TIME:20160129T073843Z
URL:https://dibinem.unibo.it/it/eventi/risonanza-magnetica-in-medicina-201
 6
END:VEVENT
BEGIN:VTIMEZONE
TZID:Europe/Rome
X-LIC-LOCATION:Europe/Rome
BEGIN:STANDARD
DTSTART;VALUE=DATE-TIME:20151025T020000
TZNAME:CET
TZOFFSETFROM:+0200
TZOFFSETTO:+0100
END:STANDARD
END:VTIMEZONE
END:VCALENDAR
