BEGIN:VCALENDAR
VERSION:2.0
PRODID:-//Plone.org//NONSGML plone.app.event//EN
X-WR-TIMEZONE:Europe/Rome
BEGIN:VEVENT
SUMMARY:Slide Seminar - Confronto Interistituzionale di Patologia Mammaria
DTSTART;TZID=Europe/Rome;VALUE=DATE-TIME:20160420T093000
DTEND;TZID=Europe/Rome;VALUE=DATE-TIME:20160420T183000
DTSTAMP;VALUE=DATE-TIME:20260422T173607Z
UID:d3382ad763ef45c4ae2b2bc6fa16c3a6@dibinem.unibo.it
CREATED;VALUE=DATE-TIME:20151203T125129Z
LAST-MODIFIED;VALUE=DATE-TIME:20160426T071958Z
URL:https://dibinem.unibo.it/it/eventi/slide-seminar-confronto-interistitu
 zionale-di-patologia-mammaria
END:VEVENT
BEGIN:VTIMEZONE
TZID:Europe/Rome
X-LIC-LOCATION:Europe/Rome
BEGIN:DAYLIGHT
DTSTART;VALUE=DATE-TIME:20160327T030000
TZNAME:CEST
TZOFFSETFROM:+0100
TZOFFSETTO:+0200
END:DAYLIGHT
END:VTIMEZONE
END:VCALENDAR
