BEGIN:VCALENDAR
VERSION:2.0
PRODID:-//Plone.org//NONSGML plone.app.event//EN
X-WR-TIMEZONE:Europe/Rome
BEGIN:VEVENT
SUMMARY:StraBologna 2016 - Stand Ambulatorio Didattico di Podologia
DTSTART;TZID=Europe/Rome;VALUE=DATE-TIME:20160514T090000
DTEND;TZID=Europe/Rome;VALUE=DATE-TIME:20160515T183000
DTSTAMP;VALUE=DATE-TIME:20260420T192237Z
UID:344243b9ddf141b1ac4c5ea17a0ac4d6@dibinem.unibo.it
CREATED;VALUE=DATE-TIME:20160504T093908Z
DESCRIPTION:domenica 15 Maggio si terrà l’edizione annuale della StraBo
 logna\, importante manifestazione podistica non competitiva all'interno de
 l perimetro cittadino. L’Ambulatorio Didattico di Podologia del DIBINEM 
 sarà presente per il terzo anno di seguito con uno stand aperto anche sab
 ato 14 Maggio per fornire agli sportivi partecipanti e a tutta la cittadin
 anza una consulenza podologica gratuita con analisi funzionale del piede e
  del ciclo del passo.\n
LAST-MODIFIED;VALUE=DATE-TIME:20160504T094338Z
URL:https://dibinem.unibo.it/it/eventi/strabologna-2016-stand-ambulatorio-
 didattico-di-podologia
END:VEVENT
BEGIN:VTIMEZONE
TZID:Europe/Rome
X-LIC-LOCATION:Europe/Rome
BEGIN:DAYLIGHT
DTSTART;VALUE=DATE-TIME:20160327T030000
TZNAME:CEST
TZOFFSETFROM:+0100
TZOFFSETTO:+0200
END:DAYLIGHT
END:VTIMEZONE
END:VCALENDAR
