BEGIN:VCALENDAR
VERSION:2.0
PRODID:-//Plone.org//NONSGML plone.app.event//EN
X-WR-TIMEZONE:Europe/Rome
BEGIN:VEVENT
SUMMARY:Switches and latches: the control of entry into mitosis - Seminari
 o Sir Tim Hunt
DTSTART;TZID=Europe/Rome;VALUE=DATE-TIME:20150916T160000
DTEND;TZID=Europe/Rome;VALUE=DATE-TIME:20150916T190000
DTSTAMP;VALUE=DATE-TIME:20260420T163309Z
UID:845519d81326417ea5a967a0c82a3632@dibinem.unibo.it
CREATED;VALUE=DATE-TIME:20150914T074529Z
DESCRIPTION:Sir Tim Hunt - Nobel Laureate - Cancer Research UK 
LAST-MODIFIED;VALUE=DATE-TIME:20150914T074726Z
URL:https://dibinem.unibo.it/it/eventi/switches-and-latches-the-control-of
 -entry-into-mitosis-seminario-sir-tim-hunt
END:VEVENT
BEGIN:VTIMEZONE
TZID:Europe/Rome
X-LIC-LOCATION:Europe/Rome
BEGIN:DAYLIGHT
DTSTART;VALUE=DATE-TIME:20150329T030000
TZNAME:CEST
TZOFFSETFROM:+0100
TZOFFSETTO:+0200
END:DAYLIGHT
END:VTIMEZONE
END:VCALENDAR
