BEGIN:VCALENDAR
VERSION:2.0
PRODID:-//Plone.org//NONSGML plone.app.event//EN
X-WR-TIMEZONE:Europe/Rome
BEGIN:VEVENT
SUMMARY:Tra sinapsi e pensiero: come l’io controlla il suo cervello
DTSTART;TZID=Europe/Rome;VALUE=DATE-TIME:20251127T203000
DTEND;TZID=Europe/Rome;VALUE=DATE-TIME:20251127T223000
DTSTAMP;VALUE=DATE-TIME:20260419T144211Z
UID:8e0b47a87a1642aa95ca1fb723d7c93f@dibinem.unibo.it
CREATED;VALUE=DATE-TIME:20251021T104453Z
DESCRIPTION:Nell'ambito della rassegna "I Classici antichi e nuovi". A cur
 a del Dipartimento di Scienze Biomediche e Neuromotorie e di Filosofia.
LAST-MODIFIED;VALUE=DATE-TIME:20251105T112111Z
URL:https://dibinem.unibo.it/it/eventi/tra-sinapsi-e-pensiero-come-l-io-co
 ntrolla-il-suo-cervello
END:VEVENT
BEGIN:VTIMEZONE
TZID:Europe/Rome
X-LIC-LOCATION:Europe/Rome
BEGIN:STANDARD
DTSTART;VALUE=DATE-TIME:20251026T020000
TZNAME:CET
TZOFFSETFROM:+0200
TZOFFSETTO:+0100
END:STANDARD
END:VTIMEZONE
END:VCALENDAR
