BEGIN:VCALENDAR
VERSION:2.0
PRODID:-//Plone.org//NONSGML plone.app.event//EN
X-WR-TIMEZONE:Europe/Rome
BEGIN:VEVENT
SUMMARY:Trattamento delle Metastasi Ossee
DTSTART;TZID=Europe/Rome;VALUE=DATE-TIME:20160610T080000
DTEND;TZID=Europe/Rome;VALUE=DATE-TIME:20160610T143000
DTSTAMP;VALUE=DATE-TIME:20260420T173935Z
UID:56ed257ec9784d2c88b831c037a82b6f@dibinem.unibo.it
CREATED;VALUE=DATE-TIME:20160608T093854Z
LAST-MODIFIED;VALUE=DATE-TIME:20160608T093900Z
URL:https://dibinem.unibo.it/it/eventi/trattamento-delle-metastasi-ossee
END:VEVENT
BEGIN:VTIMEZONE
TZID:Europe/Rome
X-LIC-LOCATION:Europe/Rome
BEGIN:DAYLIGHT
DTSTART;VALUE=DATE-TIME:20160327T030000
TZNAME:CEST
TZOFFSETFROM:+0100
TZOFFSETTO:+0200
END:DAYLIGHT
END:VTIMEZONE
END:VCALENDAR
