BEGIN:VCALENDAR
VERSION:2.0
PRODID:-//Plone.org//NONSGML plone.app.event//EN
X-WR-TIMEZONE:Europe/Rome
BEGIN:VEVENT
SUMMARY:Una vita  per la ricerca - In ricordo del Prof. Francesco Antonio 
 Manzoli
DTSTART;VALUE=DATE:20160928
DTEND;VALUE=DATE:20160929
DTSTAMP;VALUE=DATE-TIME:20260420T192237Z
UID:f005878f25e949549f8256c5260cbcaa@dibinem.unibo.it
CREATED;VALUE=DATE-TIME:20160912T121501Z
LAST-MODIFIED;VALUE=DATE-TIME:20160915T110633Z
URL:https://dibinem.unibo.it/it/eventi/una-vita-per-la-ricerca-in-ricordo-
 del-prof.-f.a.-manzoli
END:VEVENT
END:VCALENDAR
