BEGIN:VCALENDAR
VERSION:2.0
PRODID:-//Plone.org//NONSGML plone.app.event//EN
X-WR-TIMEZONE:Europe/Rome
BEGIN:VEVENT
SUMMARY:Uno sguardo esperto sulla recovery. Costruire insieme i servizi: l
 'esperienza della Gran Bretagna
DTSTART;TZID=Europe/Rome;VALUE=DATE-TIME:20160530T083000
DTEND;TZID=Europe/Rome;VALUE=DATE-TIME:20160530T180000
DTSTAMP;VALUE=DATE-TIME:20260420T205818Z
UID:a474070974cb4ef2985bfbbe0f3ea616@dibinem.unibo.it
CREATED;VALUE=DATE-TIME:20160512T044222Z
DESCRIPTION:Il convegno è organizzato dal DSM-DP e dalla Scuola di Specia
 lizzazione in Psichiatria\, DIBINEM\, Università degli Studi di Bologna.
LAST-MODIFIED;VALUE=DATE-TIME:20160512T044301Z
URL:https://dibinem.unibo.it/it/eventi/uno-sguardo-esperto-sulla-recovery.
 -costruire-insieme-i-servizi-lesperienza-della-gran-bretagna
END:VEVENT
BEGIN:VTIMEZONE
TZID:Europe/Rome
X-LIC-LOCATION:Europe/Rome
BEGIN:DAYLIGHT
DTSTART;VALUE=DATE-TIME:20160327T030000
TZNAME:CEST
TZOFFSETFROM:+0100
TZOFFSETTO:+0200
END:DAYLIGHT
END:VTIMEZONE
END:VCALENDAR
